BEGIN:VCALENDAR
VERSION:2.0
PRODID:-//ChamberMaster//Event Calendar 2.0//EN
METHOD:PUBLISH
X-PUBLISHED-TTL:P3D
REFRESH-INTERVAL:P3D
CALSCALE:GREGORIAN
BEGIN:VEVENT
DTSTART:20170412T000000Z
DTEND:20170412T020000Z
X-MICROSOFT-CDO-ALLDAYEVENT:FALSE
SUMMARY:Travel Mixer at Forbidden City - Explore China
DESCRIPTION:Please join us for our upcoming Travel Orientation and explore China!
X-ALT-DESC;FMTTYPE=text/html:<strong><span style="font-family: tahoma\;"><span style="font-size: 14pt\;">Please join us for our upcoming Travel Orientation and explore China!&nbsp\;</span></span></strong>
LOCATION:Forbidden City 638A E. Pacific Coast Hwy. Long Beach\, CA 90803
UID:e.1956.3084
SEQUENCE:3
DTSTAMP:20260419T191233Z
URL:https://business.lbchamber.com/events/details/travel-mixer-at-forbidden-city-explore-china-3084
END:VEVENT

END:VCALENDAR
