BEGIN:VCALENDAR
VERSION:2.0
PRODID:-//ChamberMaster//Event Calendar 2.0//EN
METHOD:PUBLISH
X-PUBLISHED-TTL:P3D
REFRESH-INTERVAL:P3D
CALSCALE:GREGORIAN
BEGIN:VEVENT
DTSTART:20160329T000000Z
DTEND:20160329T020000Z
X-MICROSOFT-CDO-ALLDAYEVENT:FALSE
SUMMARY:Travel Mixer at Forbidden City - Explore China
DESCRIPTION:Please join The Chamber for our upcoming travel mixer where you will hear from Leo Liu of Citslinc as he presents the exclusive China trip for 2016.  This elite trip is on a first come first serve basis.
X-ALT-DESC;FMTTYPE=text/html:<span style="font-size:14px\;"><strong>Please join The Chamber for our upcoming travel mixer where you will hear from Leo Liu of Citslinc as he presents the exclusive China trip for 2016. &nbsp\;This elite trip is on a first&nbsp\;come first serve basis.</strong></span>
LOCATION:Forbidden City 6380 E. Pacific Coast Hwy. Long Beach\, CA 90803
UID:e.1956.2738
SEQUENCE:3
DTSTAMP:20260420T144030Z
URL:https://business.lbchamber.com/events/details/travel-mixer-at-forbidden-city-explore-china-03-28-2016-2738
END:VEVENT

END:VCALENDAR
