BEGIN:VCALENDAR
VERSION:2.0
PRODID:-//ChamberMaster//Event Calendar 2.0//EN
METHOD:PUBLISH
X-PUBLISHED-TTL:P3D
REFRESH-INTERVAL:P3D
CALSCALE:GREGORIAN
BEGIN:VEVENT
DTSTART:20140412T010000Z
DTEND:20140412T040000Z
X-MICROSOFT-CDO-ALLDAYEVENT:FALSE
SUMMARY:Toyota Charity Ball Benefiting the Grand Prix Foundation
DESCRIPTION:
X-ALT-DESC;FMTTYPE=text/html:
LOCATION:
UID:e.1956.1210
SEQUENCE:3
DTSTAMP:20260424T210457Z
URL:https://business.lbchamber.com/events/details/toyota-charity-ball-benefiting-the-grand-prix-foundation-04-11-2014-1210
END:VEVENT

END:VCALENDAR
