BEGIN:VCALENDAR
VERSION:2.0
PRODID:-//ChamberMaster//Event Calendar 2.0//EN
METHOD:PUBLISH
X-PUBLISHED-TTL:P3D
REFRESH-INTERVAL:P3D
CALSCALE:GREGORIAN
BEGIN:VEVENT
DTSTART:20141211T203000Z
DTEND:20141211T220000Z
X-MICROSOFT-CDO-ALLDAYEVENT:FALSE
SUMMARY:The U.S. Chamber of Commerce's U.S. - Turkey Business Council Luncheon
DESCRIPTION:The U.S. Chamber of Commerce's U.S. - Turkey Business Council invites you to an executive roundtable luncheon with His Excellency Serdar K l  \, Ambassador of Turkey to the United States.\n\n\n\nThe Ambassador will be highlighting large infrastructure projects in Turkey and additional opportunities for U.S. companies to seize the untapped potential of Europe's fastest growing economy.
X-ALT-DESC;FMTTYPE=text/html:The U.S. Chamber of Commerce&#39\;s U.S. - Turkey Business Council invites you to an executive roundtable luncheon with His Excellency Serdar&nbsp\;K&#305\;l&#305\;&ccedil\;\,&nbsp\;<span style="font-size: 12.7272720336914px\; line-height: 18.9090900421143px\;">Ambassador of Turkey to the United States.<br />\n<br />\nThe Ambassador will be highlighting large infrastructure projects in Turkey and additional opportunities for U.S. companies to seize the untapped potential of Europe&#39\;s fastest growing economy.</span>
LOCATION:Ritz-Carlton Los Angeles (to be confirmed) 900 W. Olympic Boulevard Los Angeles\, CA 90015
UID:e.1956.2357
SEQUENCE:3
DTSTAMP:20260424T103953Z
URL:https://business.lbchamber.com/events/details/the-u-s-chamber-of-commerce-s-u-s-turkey-business-council-luncheon-12-11-2014-2357
END:VEVENT

END:VCALENDAR
