BEGIN:VCALENDAR
VERSION:2.0
PRODID:-//ChamberMaster//Event Calendar 2.0//EN
METHOD:PUBLISH
X-PUBLISHED-TTL:P3D
REFRESH-INTERVAL:P3D
CALSCALE:GREGORIAN
BEGIN:VEVENT
DTSTART:20201112T190000Z
DTEND:20201112T203000Z
X-MICROSOFT-CDO-ALLDAYEVENT:FALSE
SUMMARY:The Rent Relief Conversation: Productive ways tenants and landlords can work together for a beneficial outcome
DESCRIPTION:The Rent Relief Conversation: Productive ways tenants and landlords can work together for a beneficial outcome\n\nThursday\, November 12\, 2020\n\n11am to 12:30pm\n\n\n\nDifficult conversations are well difficult! Especially when it feels like we are sure to get a "NO!" Never before has it been so necessary to have not only difficult conversations but have them in a manner that produces a beneficial outcome for all parties. Rent is one of the largest expenses for a business and paying rent when the revenue streams are dried up can become insurmountable.
X-ALT-DESC;FMTTYPE=text/html:<span style="background:white\;"><span style="color:#232333\;"><span style="font-size:10.5pt\;">The Rent Relief Conversation: Productive ways tenants and landlords can work together for a beneficial outcome</span></span></span><br />\n<span style="color:#232333\;"><span style="font-size:10.5pt\;"><span style="background:white\;">Thursday\, November 12\, 2020</span><br />\n<span style="background:white\;">11am to 12:30pm</span><br />\n<br />\n<span style="background:white\;">Difficult conversations are&hellip\;well&hellip\;difficult! Especially when it feels like we are sure to get a &ldquo\;NO!&rdquo\; Never before has it been so necessary to have not only difficult conversations but have them in a manner that produces a beneficial outcome for all parties. Rent is one of the largest expenses for a business and paying rent when the revenue streams are dried up can become insurmountable.</span></span></span><br />\n&nbsp\;
LOCATION:Virtual (Zoom)
UID:e.1956.4976
SEQUENCE:3
DTSTAMP:20260420T190401Z
URL:https://business.lbchamber.com/events/details/the-rent-relief-conversation-productive-ways-tenants-and-landlords-can-work-together-for-a-beneficial-outcome-4976
END:VEVENT

END:VCALENDAR
