BEGIN:VCALENDAR
VERSION:2.0
PRODID:-//ChamberMaster//Event Calendar 2.0//EN
METHOD:PUBLISH
X-PUBLISHED-TTL:P3D
REFRESH-INTERVAL:P3D
CALSCALE:GREGORIAN
BEGIN:VEVENT
DTSTART:20150613T183000Z
DTEND:20150613T203000Z
X-MICROSOFT-CDO-ALLDAYEVENT:FALSE
SUMMARY:The Rafer Johnson Breakfast With Champions
DESCRIPTION:Make the first meal of your day an Olympic one. Join Special Olympics Southern California at the 2015 Rafer Johnson Breakfast with Champions on June 13 from 11:30 a.m. - 1:30 p.m. in the Cal State Long Beach Student Union Ballroom. This breakfast brings leaders of the business and sports communities together to honor the accomplishments of Special Olympics athletes. We are excited to have Doc Rivers\, President of Basketball Operations and Head Coach for the Los Angeles Clippers as our keynote speaker. To purchase tickets\, please visit www.sosc.org/bwc.
X-ALT-DESC;FMTTYPE=text/html:Make the first meal of your day an Olympic one. Join Special Olympics Southern California at the 2015 Rafer Johnson Breakfast with Champions on June 13 from 11:30 a.m. - 1:30 p.m. in the Cal State Long Beach Student Union Ballroom. This breakfast brings leaders of the business and sports communities together to honor the accomplishments of Special Olympics athletes. We are excited to have Doc Rivers\, President of Basketball Operations and Head Coach for the Los Angeles Clippers as our keynote speaker. To purchase tickets\, please visit www.sosc.org/bwc.
LOCATION:1250 Bellflower Boulevard\, Long Beach\, CA 90840
UID:e.1956.2443
SEQUENCE:3
DTSTAMP:20260424T023618Z
URL:https://business.lbchamber.com/events/details/the-rafer-johnson-breakfast-with-champions-06-13-2015-2443
END:VEVENT

END:VCALENDAR
