BEGIN:VCALENDAR
VERSION:2.0
PRODID:-//ChamberMaster//Event Calendar 2.0//EN
METHOD:PUBLISH
X-PUBLISHED-TTL:P3D
REFRESH-INTERVAL:P3D
CALSCALE:GREGORIAN
BEGIN:VEVENT
DTSTART:20140817T010000Z
DTEND:20140817T040000Z
X-MICROSOFT-CDO-ALLDAYEVENT:FALSE
SUMMARY:The Long Beach Grand Cru Wine Competition and Tasting Event
DESCRIPTION:The 2014 Long Beach Grand Cru features regional food and wines from 23 states and 13 different countries\, one-of-a-kind silent auction and live musical entertainment.   The Long Beach Grand Cru is considered one of the top international wine competitions in the U.S. and the major public tasting event attracts more than 1\,200 guests every August. It is a primary fundraising vehicle for the Legal Aid Foundation of Los Angeles\, a 501(c)(3) non-profit corporation and The Greater Long Beach Medical Legal Partnership  which also benefits Long Beach Children?s Clinic. The Foundation provides legal support in civil matters for low income citizens who meet Federal poverty guidelines. Annually\, the Foundation provides legal services to thousands\, including battered women and children\, seniors\, veterans\, disabled and the homeless\, and conducts educational programs and outreach to the community.
X-ALT-DESC;FMTTYPE=text/html:The 2014 Long Beach Grand Cru features regional food and wines from 23 states and 13 different countries\, one-of-a-kind silent auction and live musical entertainment. &nbsp\; The Long Beach Grand Cru is considered one of the top international wine competitions in the U.S. and the major public tasting event attracts more than 1\,200 guests every August. It is a primary fundraising vehicle for the Legal Aid Foundation of Los Angeles\, a 501(c)(3) non-profit corporation and The Greater Long Beach Medical Legal Partnership &nbsp\;which also benefits Long Beach Children?s Clinic. The Foundation provides legal support in civil matters for low income citizens who meet Federal poverty guidelines. Annually\, the Foundation provides legal services to thousands\, including battered women and children\, seniors\, veterans\, disabled and the homeless\, and conducts educational programs and outreach to the community.
LOCATION:Rainbow Lagoon Park East Shoreline Drive Long Beach\, CA 90802
UID:e.1956.1259
SEQUENCE:3
DTSTAMP:20260424T154658Z
URL:https://business.lbchamber.com/events/details/the-long-beach-grand-cru-wine-competition-and-tasting-event-08-16-2014-1259
END:VEVENT

END:VCALENDAR
