BEGIN:VCALENDAR
VERSION:2.0
PRODID:-//ChamberMaster//Event Calendar 2.0//EN
METHOD:PUBLISH
X-PUBLISHED-TTL:P3D
REFRESH-INTERVAL:P3D
CALSCALE:GREGORIAN
BEGIN:VEVENT
DTSTART:20190306T210000Z
DTEND:20190311T020000Z
X-MICROSOFT-CDO-ALLDAYEVENT:FALSE
SUMMARY:The Fred Hall Show
DESCRIPTION:What started in 1946 as a Sportsman's show at the Gilmore Stadium in Los Angeles\, has now become the world's largest consumer fishing show\, the largest boat show in the western United States\, and California's finest travel and hunting show. The Fred Hall Show returns to the Long Beach Convention Center (300 East Ocean\, Long Beach 90802) from Wednesday March 6 through Sunday\, March 10\, 2019. Tickets on sale now at www.FredHall.com \, or available at the box office week of show. The Fred Hall Show The Ultimate Outdoor Experience   will feature approximately 1000 booths throughout the convention center with over 10\,000 products on display from the world's leading outdoor recreation manufacturers. Over 400 seminars will take place during the five days of the show in seven different seminar venues\, plus live entertainment and cooking demonstrations. Tickets can be purchased in advance at www.FredHall.com or day-of-event at the box office.
X-ALT-DESC;FMTTYPE=text/html:What started in 1946 as a Sportsman&rsquo\;s show at the Gilmore Stadium in Los Angeles\, has now become the world&rsquo\;s largest consumer fishing show\, the largest boat show in the western United States\, and California&rsquo\;s finest travel and hunting show. The Fred Hall Show returns to the Long Beach Convention Center (300 East Ocean\, Long Beach 90802) from Wednesday March 6 through Sunday\, March 10\, 2019. Tickets on sale now at www.FredHall.com \, or available at the box office week of show. The Fred Hall Show&mdash\;The Ultimate Outdoor Experience &mdash\; will feature approximately 1000 booths throughout the convention center with over 10\,000 products on display from the world&rsquo\;s leading outdoor recreation manufacturers. Over 400 seminars will take place during the five days of the show in seven different seminar venues\, plus live entertainment and cooking demonstrations. Tickets can be purchased in advance at www.FredHall.com or day-of-event at the box office.
LOCATION:Long Beach Convention Center
UID:e.1956.4433
SEQUENCE:3
DTSTAMP:20260420T000027Z
URL:https://business.lbchamber.com/events/details/the-fred-hall-show-4433
END:VEVENT

END:VCALENDAR
