BEGIN:VCALENDAR
VERSION:2.0
PRODID:-//ChamberMaster//Event Calendar 2.0//EN
METHOD:PUBLISH
X-PUBLISHED-TTL:P3D
REFRESH-INTERVAL:P3D
CALSCALE:GREGORIAN
BEGIN:VEVENT
DTSTART:20180428T150000Z
DTEND:20180428T183000Z
X-MICROSOFT-CDO-ALLDAYEVENT:FALSE
SUMMARY:The Foundation Of Hope & Innovation 4th Annual 5k Fun Run And Walk
DESCRIPTION:The 4th Annual 5k Fun Run & Walk program increases awareness of cancer research and provides cancer education for schools\, communities\, and families. The 4th Annual 5k Fun Run & Walk is hosted by The Foundation of Hope and Innovation\, a 501(c)3 nonprofit organization whose mission is to provide research\, education\, and patient support for those and their families going through cancer.
X-ALT-DESC;FMTTYPE=text/html:The 4th Annual 5k Fun Run &amp\; Walk program increases awareness of cancer research and provides cancer education for schools\, communities\, and families. The 4th Annual 5k Fun Run &amp\; Walk is hosted by The Foundation of Hope and Innovation\, a 501(c)3 nonprofit organization whose mission is to provide research\, education\, and patient support for those and their families going through cancer.
LOCATION:MARINE STADIUM PARK 5255 Paoli Way Long Beach\, CA 90803
UID:e.1956.4284
SEQUENCE:3
DTSTAMP:20260420T155236Z
URL:https://business.lbchamber.com/events/details/the-foundation-of-hope-innovation-4th-annual-5k-fun-run-and-walk-4284
END:VEVENT

END:VCALENDAR
