BEGIN:VCALENDAR
VERSION:2.0
PRODID:-//ChamberMaster//Event Calendar 2.0//EN
METHOD:PUBLISH
X-PUBLISHED-TTL:P3D
REFRESH-INTERVAL:P3D
CALSCALE:GREGORIAN
BEGIN:VEVENT
DTSTART:20190718T020000Z
DTEND:20190718T050000Z
X-MICROSOFT-CDO-ALLDAYEVENT:FALSE
SUMMARY:The Comedy of Errors at Venice Beach Recreation Center
DESCRIPTION:Venice Beach - Venice Beach Recreation Center (by muscle beach) 1800 Oceanfront Walk\, Venice CA 90291 Wednesday\, July 17 at 7pm: The Comedy of Errors ADMISSION IS FREE The Comedy of Errors: A classic romp of mistaken identity! Two young visitors arrive in the city unaware that their long-lost twins already live there. Over the course of a single day\, everything that can go wrong does go wrong: a marriage at breaking point\, a missing gold chain\, an unpaid debt\, and a dubious arrest. For audiences seeking quality\, family entertainment\, Shakespeare by the Sea's free performances can't be beat. Pack a picnic\, a blanket and beach chair\, gather loved ones\, and settle in under the stars for a night of classic entertainment. The tales are timeless\, the admission ticketless\, and the experience priceless. We may be coming to a park near you! Check our website for complete schedule of locations and show times. http://www.shakespearebythesea.org/wp/locations/ Entire Festival: June 13 - August 17 The Comedy of Errors: June 13 - August 17 Henry V: June 20 - August 16
X-ALT-DESC;FMTTYPE=text/html:Venice Beach - Venice Beach Recreation Center (by muscle beach) 1800 Oceanfront Walk\, Venice CA 90291 Wednesday\, July 17 at 7pm: The Comedy of Errors ADMISSION IS FREE The Comedy of Errors: A classic romp of mistaken identity! Two young visitors arrive in the city unaware that their long-lost twins already live there. Over the course of a single day\, everything that can go wrong does go wrong: a marriage at breaking point\, a missing gold chain\, an unpaid debt\, and a dubious arrest. For audiences seeking quality\, family entertainment\, Shakespeare by the Sea&#39\;s free performances can&#39\;t be beat. Pack a picnic\, a blanket and beach chair\, gather loved ones\, and settle in under the stars for a night of classic entertainment. The tales are timeless\, the admission ticketless\, and the experience priceless. We may be coming to a park near you! Check our website for complete schedule of locations and show times. http://www.shakespearebythesea.org/wp/locations/ Entire Festival: June 13 - August 17 The Comedy of Errors: June 13 - August 17 Henry V: June 20 - August 16
LOCATION:Venice Beach - Venice Beach Recreation Center (by muscle beach) 1800 Oceanfront Walk\, Venice CA 90291
UID:e.1956.4483
SEQUENCE:3
DTSTAMP:20260419T181521Z
URL:https://business.lbchamber.com/events/details/the-comedy-of-errors-at-venice-beach-recreation-center-4483
END:VEVENT

END:VCALENDAR
