BEGIN:VCALENDAR
VERSION:2.0
PRODID:-//ChamberMaster//Event Calendar 2.0//EN
METHOD:PUBLISH
X-PUBLISHED-TTL:P3D
REFRESH-INTERVAL:P3D
CALSCALE:GREGORIAN
BEGIN:VEVENT
DTSTART:20190722T020000Z
DTEND:20190722T050000Z
X-MICROSOFT-CDO-ALLDAYEVENT:FALSE
SUMMARY:The Comedy of Errors at Cesar Chavez Park
DESCRIPTION:Long Beach   Cesar Chavez Park 401 Golden Ave\, Long Beach\, CA 90802 July 21st at 7:00 pm ADMISSION IS FREE The Comedy of Errors: A classic romp of mistaken identity! Two young visitors arrive in the city unaware that their long-lost twins already live there. Over the course of a single day\, everything that can go wrong does go wrong: a marriage at breaking point\, a missing gold chain\, an unpaid debt\, and a dubious arrest. For audiences seeking quality\, family entertainment\, Shakespeare by the Sea's free performances can't be beat. Pack a picnic\, a blanket and beach chair\, gather loved ones\, and settle in under the stars for a night of classic entertainment. The tales are timeless\, the admission ticketless\, and the experience priceless. We may be coming to a park near you! Check our website for complete schedule of locations and show times. http://www.shakespearebythesea.org/wp/locations/ Entire Festival: June 13 - August 17 The Comedy of Errors: June 13 - August 17 Henry V: June 20 - August 16
X-ALT-DESC;FMTTYPE=text/html:Long Beach &ndash\; Cesar Chavez Park 401 Golden Ave\, Long Beach\, CA 90802 July 21st at 7:00 pm ADMISSION IS FREE The Comedy of Errors: A classic romp of mistaken identity! Two young visitors arrive in the city unaware that their long-lost twins already live there. Over the course of a single day\, everything that can go wrong does go wrong: a marriage at breaking point\, a missing gold chain\, an unpaid debt\, and a dubious arrest. For audiences seeking quality\, family entertainment\, Shakespeare by the Sea&#39\;s free performances can&#39\;t be beat. Pack a picnic\, a blanket and beach chair\, gather loved ones\, and settle in under the stars for a night of classic entertainment. The tales are timeless\, the admission ticketless\, and the experience priceless. We may be coming to a park near you! Check our website for complete schedule of locations and show times. http://www.shakespearebythesea.org/wp/locations/ Entire Festival: June 13 - August 17 The Comedy of Errors: June 13 - August 17 Henry V: June 20 - August 16
LOCATION:Long Beach Cesar Chavez Park 401 Golden Ave\, Long Beach\, CA 90802
UID:e.1956.4484
SEQUENCE:3
DTSTAMP:20260419T180732Z
URL:https://business.lbchamber.com/events/details/the-comedy-of-errors-at-cesar-chavez-park-4484
END:VEVENT

END:VCALENDAR
