BEGIN:VCALENDAR
VERSION:2.0
PRODID:-//ChamberMaster//Event Calendar 2.0//EN
METHOD:PUBLISH
X-PUBLISHED-TTL:P3D
REFRESH-INTERVAL:P3D
CALSCALE:GREGORIAN
BEGIN:VEVENT
DTSTART:20150213T040000Z
DTEND:20150308T060000Z
X-MICROSOFT-CDO-ALLDAYEVENT:FALSE
SUMMARY:The Clean House
DESCRIPTION:A quietly touching comedy of true love and the devastating power of the perfect joke.
X-ALT-DESC;FMTTYPE=text/html:A quietly touching comedy of true love and the devastating power of the perfect joke.
LOCATION:Royal Theatre aboard the Queen Mary
UID:e.1956.2401
SEQUENCE:3
DTSTAMP:20260424T060223Z
URL:https://business.lbchamber.com/events/details/the-clean-house-02-12-2015-2401
END:VEVENT

END:VCALENDAR
