BEGIN:VCALENDAR
VERSION:2.0
PRODID:-//ChamberMaster//Event Calendar 2.0//EN
METHOD:PUBLISH
X-PUBLISHED-TTL:P3D
REFRESH-INTERVAL:P3D
CALSCALE:GREGORIAN
BEGIN:VEVENT
DTSTART:20151119T170000Z
DTEND:20151119T200000Z
X-MICROSOFT-CDO-ALLDAYEVENT:FALSE
SUMMARY:The City of Long Beach Bioterror Preparedness Drill
DESCRIPTION:Do you want to aid in bioterror preparedness? Get free breakfast and prizes while you're at it? Are you ready to act in the role of a lifetime? Volunteer to help out The City of Long Beach and make a difference in your local community!
X-ALT-DESC;FMTTYPE=text/html:Do you want to aid in bioterror preparedness? Get free breakfast and prizes while you&#39\;re at it? Are you ready to act in the role of a lifetime? Volunteer to help out The City of Long Beach and make a difference in your local community!
LOCATION:Veterans Park 101 E. 28th St. Long Beach\, CA 90806
UID:e.1956.2558
SEQUENCE:3
DTSTAMP:20260423T213935Z
URL:https://business.lbchamber.com/events/details/the-city-of-long-beach-bioterror-preparedness-drill-11-19-2015-2558
END:VEVENT

END:VCALENDAR
