BEGIN:VCALENDAR
VERSION:2.0
PRODID:-//ChamberMaster//Event Calendar 2.0//EN
METHOD:PUBLISH
X-PUBLISHED-TTL:P3D
REFRESH-INTERVAL:P3D
CALSCALE:GREGORIAN
BEGIN:VEVENT
DTSTART:20190924T201500Z
DTEND:20190924T221500Z
X-MICROSOFT-CDO-ALLDAYEVENT:FALSE
SUMMARY:The Business of Manufacturing Today & Tomorrow - A Regional Perspective
DESCRIPTION:SME invites you to attend a roundtable discussion on the future of U.S. manufacturing at this year's WESTEC\, the largest manufacturing event on the west coast. Please join us for an expansive discussion featuring regional leaders and industry executives. How Manufacturers Can Tackle the Skills Gap As new technologies hit the market\, some manufacturers are finding new ways to remain competitive. Although some are thriving\, a lot more are falling behind their peers and at risk of losing significant business. There is a lack of talent with the skills needed to drive growth in manufacturing. How can our regional manufacturers stay ahead of the technology curve and tackle the current skills gap? The event will start with lunch at 1:15 p.m.\, with the panel discussion scheduled to begin at 2 p.m. Parking at the Long Beach Convention & Entertainment Center is $15. Directions and more information can be found here.
X-ALT-DESC;FMTTYPE=text/html:SME invites you to attend a roundtable discussion on the future of U.S. manufacturing at this year&rsquo\;s WESTEC\, the largest manufacturing event on the west coast. Please join us for an expansive discussion featuring regional leaders and industry executives. How Manufacturers Can Tackle the Skills Gap As new technologies hit the market\, some manufacturers are finding new ways to remain competitive. Although some are thriving\, a lot more are falling behind their peers and at risk of losing significant business. There is a lack of talent with the skills needed to drive growth in manufacturing. How can our regional manufacturers stay ahead of the technology curve and tackle the current skills gap? The event will start with lunch at 1:15 p.m.\, with the panel discussion scheduled to begin at 2 p.m. Parking at the Long Beach Convention &amp\; Entertainment Center is $15. Directions and more information can be found here.
LOCATION:Long Beach Convention & Entertainment Center\, Room 101
UID:e.1956.4596
SEQUENCE:3
DTSTAMP:20260419T152413Z
URL:https://business.lbchamber.com/events/details/the-business-of-manufacturing-today-tomorrow-a-regional-perspective-4596
END:VEVENT

END:VCALENDAR
