BEGIN:VCALENDAR
VERSION:2.0
PRODID:-//ChamberMaster//Event Calendar 2.0//EN
METHOD:PUBLISH
X-PUBLISHED-TTL:P3D
REFRESH-INTERVAL:P3D
CALSCALE:GREGORIAN
BEGIN:VEVENT
DTSTART:20190828T010000Z
DTEND:20190828T023000Z
X-MICROSOFT-CDO-ALLDAYEVENT:FALSE
SUMMARY:The Art of Bloom: Sweet Soul Sound Bath
DESCRIPTION:Everything in the Universe\, including our body\, is composed of vibrations  The soundbath vibrations guide listeners on a journey of self discovery and promotes deep relaxation and peace. Allowing our physical body to rest and merge into harmonic planes instigates the expansion of consciousness\, and helps to open the body's entire energetic system. This class will be conducted within the main exhibit of The Art of Bloom experience\, allowing participants to immerse into the room of flowers and aromatics\, awakening all senses within this unique meditative space. Students please bring blankets\, bolsters\, pillows eye mask\, or whatever you need to be comfortable in a supine (laying down position). *We are giving a special 20% discount to Long Beach residents. Please use code "20LBRESIDENT" **For more information and to register\, please visit: https://www.eventbrite.com/e/sweet-soul-sound-bath-tickets-64691143953
X-ALT-DESC;FMTTYPE=text/html:Everything in the Universe\, including our body\, is composed of vibrations&hellip\; The soundbath vibrations guide listeners on a journey of self discovery and promotes deep relaxation and peace. Allowing our physical body to rest and merge into harmonic planes instigates the expansion of consciousness\, and helps to open the body&rsquo\;s entire energetic system. This class will be conducted within the main exhibit of The Art of Bloom experience\, allowing participants to immerse into the room of flowers and aromatics\, awakening all senses within this unique meditative space. Students please bring blankets\, bolsters\, pillows eye mask\, or whatever you need to be comfortable in a supine (laying down position). *We are giving a special 20% discount to Long Beach residents. Please use code &ldquo\;20LBRESIDENT&rdquo\; **For more information and to register\, please visit: https://www.eventbrite.com/e/sweet-soul-sound-bath-tickets-64691143953
LOCATION:Edison Theatre 213 E. Broadway Long Beach\, CA 90802
UID:e.1956.4567
SEQUENCE:3
DTSTAMP:20260419T170222Z
URL:https://business.lbchamber.com/events/details/the-art-of-bloom-sweet-soul-sound-bath-4567
END:VEVENT

END:VCALENDAR
