BEGIN:VCALENDAR
VERSION:2.0
PRODID:-//ChamberMaster//Event Calendar 2.0//EN
METHOD:PUBLISH
X-PUBLISHED-TTL:P3D
REFRESH-INTERVAL:P3D
CALSCALE:GREGORIAN
BEGIN:VEVENT
DTSTART:20190821T010000Z
DTEND:20190821T023000Z
X-MICROSOFT-CDO-ALLDAYEVENT:FALSE
SUMMARY:The Art of Bloom: Jivamukti Open Level Yoga
DESCRIPTION:Whether you're a beginner\, deciphering the difference between various poses\, or an advanced yogi who can put both feet behind their head\, the Jivamukti Open class welcomes practitioners of all levels. Students work at a guided pace\, following the teacher's verbal as well as hands-on guidance. Asana options will be provided for beginners\, intermediate\, and advanced students. The teacher focuses on keeping the pace and does not stop to give spiritual discourses. Since the asana sequence is always the same\, a student will pick it up quite quickly after only a couple of classes. This class will be conducted within the main exhibit of The Art of Bloom experience\, allowing participants to immerse into the room of flowers and aromatics\, awakening all senses within this unique meditative space. *We are giving a special 20% discount to Long Beach residents. Please use code "20LBRESIDENT" **For more information and to register\, please visit: https://www.eventbrite.com/e/jivamukti-open-level-yoga-tickets-64650648831
X-ALT-DESC;FMTTYPE=text/html:Whether you&rsquo\;re a beginner\, deciphering the difference between various poses\, or an advanced yogi who can put both feet behind their head\, the Jivamukti Open class welcomes practitioners of all levels. Students work at a guided pace\, following the teacher&rsquo\;s verbal as well as hands-on guidance. Asana options will be provided for beginners\, intermediate\, and advanced students. The teacher focuses on keeping the pace and does not stop to give spiritual discourses. Since the asana sequence is always the same\, a student will pick it up quite quickly after only a couple of classes. This class will be conducted within the main exhibit of The Art of Bloom experience\, allowing participants to immerse into the room of flowers and aromatics\, awakening all senses within this unique meditative space. *We are giving a special 20% discount to Long Beach residents. Please use code &ldquo\;20LBRESIDENT&rdquo\; **For more information and to register\, please visit: https://www.eventbrite.com/e/jivamukti-open-level-yoga-tickets-64650648831
LOCATION:Edison Theatre 213 E. Broadway Long Beach\, CA 90802
UID:e.1956.4565
SEQUENCE:3
DTSTAMP:20260419T170109Z
URL:https://business.lbchamber.com/events/details/the-art-of-bloom-jivamukti-open-level-yoga-4565
END:VEVENT

END:VCALENDAR
