BEGIN:VCALENDAR
VERSION:2.0
PRODID:-//ChamberMaster//Event Calendar 2.0//EN
METHOD:PUBLISH
X-PUBLISHED-TTL:P3D
REFRESH-INTERVAL:P3D
CALSCALE:GREGORIAN
BEGIN:VEVENT
DTSTART:20190724T190000Z
DTEND:20190930T050000Z
X-MICROSOFT-CDO-ALLDAYEVENT:FALSE
SUMMARY:The Art of Bloom
DESCRIPTION:"The Art of Bloom explores how humans and nature coexist." Long Beach's first immersive pop-up exhibit\, The Art of Bloom\, focuses on the special relationship between humans and nature. With real flowers\, light\, and AR interactions that blend both the physical and digital\, The Art of Bloom gives you the opportunity to connect with nature in an elevated environment. Through this multi-sensory installation\, showers of flower petals\, light\, aroma\, and sound will awaken your senses and create a meditative space to connect to a deeper state of mind. In this idyllic world\, you are free to roam and explore without being bound by words. About The Art of Bloom: The Art of Bloom takes you through the intoxicating power of flowers in communicating emotions\, signaling change and evolution\, ushering reconciliation and human connection. Housed in the historic Edison Theatre\, The Art of Bloom allows one to leave reality behind to discover the raw emotion that colorful blooms can elicit. This is not your traditional pop-up. Come ready to explore\, reflect\, and completely submerge yourself in The Art of Bloom.
X-ALT-DESC;FMTTYPE=text/html:&ldquo\;The Art of Bloom explores how humans and nature coexist.&rdquo\; Long Beach&rsquo\;s first immersive pop-up exhibit\, The Art of Bloom\, focuses on the special relationship between humans and nature. With real flowers\, light\, and AR interactions that blend both the physical and digital\, The Art of Bloom gives you the opportunity to connect with nature in an elevated environment. Through this multi-sensory installation\, showers of flower petals\, light\, aroma\, and sound will awaken your senses and create a meditative space to connect to a deeper state of mind. In this idyllic world\, you are free to roam and explore without being bound by words. About The Art of Bloom: The Art of Bloom takes you through the intoxicating power of flowers in communicating emotions\, signaling change and evolution\, ushering reconciliation and human connection. Housed in the historic Edison Theatre\, The Art of Bloom allows one to leave reality behind to discover the raw emotion that colorful blooms can elicit. This is not your traditional pop-up. Come ready to explore\, reflect\, and completely submerge yourself in The Art of Bloom.
LOCATION:Edison Theatre 213 E. Broadway Long Beach\, CA 90802
UID:e.1956.4544
SEQUENCE:3
DTSTAMP:20260419T152114Z
URL:https://business.lbchamber.com/events/details/the-art-of-bloom-4544
END:VEVENT

END:VCALENDAR
