BEGIN:VCALENDAR
VERSION:2.0
PRODID:-//ChamberMaster//Event Calendar 2.0//EN
METHOD:PUBLISH
X-PUBLISHED-TTL:P3D
REFRESH-INTERVAL:P3D
CALSCALE:GREGORIAN
BEGIN:VEVENT
DTSTART:20141023T220000Z
DTEND:20141024T020000Z
X-MICROSOFT-CDO-ALLDAYEVENT:FALSE
SUMMARY:Tee off for Tots!
DESCRIPTION:Tee off for Tots! A Twilight Tournament Benefiting the Long Beach Day Nursery Please join us for a very casual Thursday afternoon tournament for golfers at all levels featuring contests and food tastings on the course\, opportunity drawing\, CASH PRIZE to the winning foursome\, BBQ\, and much more! Sponsorship and Tee-Sign Advertising Available.
X-ALT-DESC;FMTTYPE=text/html:Tee off for Tots! A Twilight Tournament Benefiting the Long Beach Day Nursery Please join us for a very casual Thursday afternoon tournament for golfers at all levels featuring contests and food tastings on the course\, opportunity drawing\, CASH PRIZE to the winning foursome\, BBQ\, and much more! Sponsorship and Tee-Sign Advertising Available.
LOCATION:Heartwell Golf Course 6700 E. Carson Street Long Beach
UID:e.1956.2295
SEQUENCE:3
DTSTAMP:20260424T125306Z
URL:https://business.lbchamber.com/events/details/tee-off-for-tots-10-23-2014-2295
END:VEVENT

END:VCALENDAR
