BEGIN:VCALENDAR
VERSION:2.0
PRODID:-//ChamberMaster//Event Calendar 2.0//EN
METHOD:PUBLISH
X-PUBLISHED-TTL:P3D
REFRESH-INTERVAL:P3D
CALSCALE:GREGORIAN
BEGIN:VEVENT
DTSTART:20151018T190000Z
DTEND:20151018T190000Z
X-MICROSOFT-CDO-ALLDAYEVENT:FALSE
SUMMARY:Taste of the Town Vendor Bazaar
DESCRIPTION:We wish to announce that H.I.S. Development & PTO will be hosting a first of its kind Taste of the Town and Vendor Bazaar October 18th\, 2pm to 5pm We are planning delicious tasting of Long Beach's local restaurants\, fun activities for the whole family and a Vendor's Bazaar. For more information please contact Eileen Las Pinas or Isabel Sanabria (562) 424-1018 Hope you all can be part of this Great Event!
X-ALT-DESC;FMTTYPE=text/html:We wish to announce that H.I.S. Development &amp\; PTO will be hosting a first of its kind Taste of the Town and Vendor Bazaar October 18th\, 2pm to 5pm We are planning delicious tasting of Long Beach&#39\;s local restaurants\, fun activities for the whole family and a Vendor&#39\;s Bazaar. For more information please contact Eileen Las Pinas or Isabel Sanabria (562) 424-1018 Hope you all can be part of this Great Event!
LOCATION:2500 Pacific Ave Long Beach CA 90806
UID:e.1956.2536
SEQUENCE:3
DTSTAMP:20260423T223803Z
URL:https://business.lbchamber.com/events/details/taste-of-the-town-vendor-bazaar-10-18-2015-2536
END:VEVENT

END:VCALENDAR
