BEGIN:VCALENDAR
VERSION:2.0
PRODID:-//ChamberMaster//Event Calendar 2.0//EN
METHOD:PUBLISH
X-PUBLISHED-TTL:P3D
REFRESH-INTERVAL:P3D
CALSCALE:GREGORIAN
BEGIN:VEVENT
DTSTART:20151018T210000Z
DTEND:20151019T000000Z
X-MICROSOFT-CDO-ALLDAYEVENT:FALSE
SUMMARY:Taste of the Town and Vendor Bazaar
DESCRIPTION:We wish to announce that H.I.S. (Holy Innocents School) Development office and PTO will be hosting a first-of-its kind Taste of the Town and Vendor Bazaar. We are planning delicious tasting of Long Beach's local restaurants for the whole family with fun activities and a Vendor's Bazaar. We hope you can be a part of this great event.
X-ALT-DESC;FMTTYPE=text/html:We wish to announce that H.I.S. (Holy Innocents School) Development office and PTO will be hosting a first-of-its kind Taste of the Town and Vendor Bazaar. We are planning delicious tasting of Long Beach&#39\;s local restaurants for the whole family with fun activities and a Vendor&#39\;s Bazaar. We hope you can be a part of this great event.
LOCATION:Holy Innocents Parish School 2500 Pacific Avenue Long Beach\, CA 90806
UID:e.1956.2535
SEQUENCE:3
DTSTAMP:20260423T224208Z
URL:https://business.lbchamber.com/events/details/taste-of-the-town-and-vendor-bazaar-10-18-2015-2535
END:VEVENT

END:VCALENDAR
