BEGIN:VCALENDAR
VERSION:2.0
PRODID:-//ChamberMaster//Event Calendar 2.0//EN
METHOD:PUBLISH
X-PUBLISHED-TTL:P3D
REFRESH-INTERVAL:P3D
CALSCALE:GREGORIAN
BEGIN:VEVENT
DTSTART:20190915T013000Z
DTEND:20190915T050000Z
X-MICROSOFT-CDO-ALLDAYEVENT:FALSE
SUMMARY:Sunset Sip 2019
DESCRIPTION:Every fall\, friends and supporters of The Guidance Center come together to raise funds to support the life-saving mental health services that The Guidance Center provides to over 3\,700 disadvantaged children and families a year. Join us for a memorable evening! This year's theme is Hope Takes Flight. The evening will consist of unlimited wine tastings\, a delectable 3-course dinner\, silent and live auctions\, wine pull\, a photo booth pop-up\, and more! When? Saturday\, September 14\, 2019 | 6:30 pm   10:00 pm Where? Hotel Maya | 700 Queensway Dr.\, Long Beach\, CA 90802 To purchase tickets or sponsor Sunset Sip\, please visit http://bit.ly/SUNSETSIP2019.
X-ALT-DESC;FMTTYPE=text/html:Every fall\, friends and supporters of The Guidance Center come together to raise funds to support the life-saving mental health services that The Guidance Center provides to over 3\,700 disadvantaged children and families a year. Join us for a memorable evening! This year&#39\;s theme is Hope Takes Flight. The evening will consist of unlimited wine tastings\, a delectable 3-course dinner\, silent and live auctions\, wine pull\, a photo booth pop-up\, and more! When? Saturday\, September 14\, 2019 | 6:30 pm &ndash\; 10:00 pm Where? Hotel Maya | 700 Queensway Dr.\, Long Beach\, CA 90802 To purchase tickets or sponsor Sunset Sip\, please visit http://bit.ly/SUNSETSIP2019.
LOCATION:Hotel Maya | 700 Queensway Dr.\, Long Beach\, CA 90802
UID:e.1956.4572
SEQUENCE:3
DTSTAMP:20260419T151936Z
URL:https://business.lbchamber.com/events/details/sunset-sip-2019-09-14-2019-4572
END:VEVENT

END:VCALENDAR
