BEGIN:VCALENDAR
VERSION:2.0
PRODID:-//ChamberMaster//Event Calendar 2.0//EN
METHOD:PUBLISH
X-PUBLISHED-TTL:P3D
REFRESH-INTERVAL:P3D
CALSCALE:GREGORIAN
BEGIN:VEVENT
DTSTART:20180916T013000Z
DTEND:20180916T050000Z
X-MICROSOFT-CDO-ALLDAYEVENT:FALSE
SUMMARY:Sunset Sip 2018
DESCRIPTION:Every fall\, friends and supporters of The Guidance Center come together to raise funds to support the critical mental health services that The Guidance Center provides to over 3\,000 disadvantaged children and families a year. This year's theme is "Be the Hero of Your Own Story". Join us for a memorable evening of exploring the super hero in each of us! The evening will consist of unlimited wine tastings\, a delectable dinner\, silent and live auctions\, a wine pull\, interactive experiences\, a photo booth pop-up\, and more! When? Saturday\, September 15\, 2018 | 6:30 pm   10:00 pm Where? Hotel Maya | 700 Queensway Dr.\, Long Beach\, CA 90802 To purchase tickets or sponsor Sunset Sip\, please visit http://bit.ly/SUNSETSIP2018. For further details on the event or for questions\, please contact Lorraine Lyou at llyou@tgclb.org or 562-485-2276.
X-ALT-DESC;FMTTYPE=text/html:Every fall\, friends and supporters of The Guidance Center come together to raise funds to support the critical mental health services that The Guidance Center provides to over 3\,000 disadvantaged children and families a year. This year&rsquo\;s theme is &ldquo\;Be the Hero of Your Own Story&rdquo\;. Join us for a memorable evening of exploring the super hero in each of us! The evening will consist of unlimited wine tastings\, a delectable dinner\, silent and live auctions\, a wine pull\, interactive experiences\, a photo booth pop-up\, and more! When? Saturday\, September 15\, 2018 | 6:30 pm &ndash\; 10:00 pm Where? Hotel Maya | 700 Queensway Dr.\, Long Beach\, CA 90802 To purchase tickets or sponsor Sunset Sip\, please visit http://bit.ly/SUNSETSIP2018. For further details on the event or for questions\, please contact Lorraine Lyou at llyou@tgclb.org or 562-485-2276.
LOCATION:Hotel Maya\, 700 Queensway Drive\, Long Beach\, CA 90802
UID:e.1956.4328
SEQUENCE:3
DTSTAMP:20260420T100751Z
URL:https://business.lbchamber.com/events/details/sunset-sip-2018-4328
END:VEVENT

END:VCALENDAR
