BEGIN:VCALENDAR
VERSION:2.0
PRODID:-//ChamberMaster//Event Calendar 2.0//EN
METHOD:PUBLISH
X-PUBLISHED-TTL:P3D
REFRESH-INTERVAL:P3D
CALSCALE:GREGORIAN
BEGIN:VEVENT
DTSTART:20150816T190000Z
DTEND:20150816T220000Z
X-MICROSOFT-CDO-ALLDAYEVENT:FALSE
SUMMARY:Sunday Funday Joint Mixer with Long Beach Young Professionals and Red Shoe Society
DESCRIPTION:Join the Long Beach Young Professionals and the Red Shoe Society Long Beach for a joint mixer with proceeds benefiting the Long Beach Ronald McDonald House. Guests will enjoy appetizers\, drinks\, beach games\, and a chance to mix and mingle with two great young professional groups!
X-ALT-DESC;FMTTYPE=text/html:Join the Long Beach Young Professionals and the Red Shoe Society Long Beach for a joint mixer with proceeds benefiting the Long Beach Ronald McDonald House. Guests will enjoy appetizers\, drinks\, beach games\, and a chance to mix and mingle with two great young professional groups!
LOCATION:Hotel Maya private beach 700 Queensway Drive Long Beach\, CA
UID:e.1956.2482
SEQUENCE:3
DTSTAMP:20260421T164106Z
URL:https://business.lbchamber.com/events/details/sunday-funday-joint-mixer-with-long-beach-young-professionals-and-red-shoe-society-08-16-2015-2482
END:VEVENT

END:VCALENDAR
