BEGIN:VCALENDAR
VERSION:2.0
PRODID:-//ChamberMaster//Event Calendar 2.0//EN
METHOD:PUBLISH
X-PUBLISHED-TTL:P3D
REFRESH-INTERVAL:P3D
CALSCALE:GREGORIAN
BEGIN:VEVENT
DTSTART:20190914T200000Z
DTEND:20190915T000000Z
X-MICROSOFT-CDO-ALLDAYEVENT:FALSE
SUMMARY:Summit Beer Festival
DESCRIPTION:The Summit Beer Festival is the LARGEST event on the West Coast that gives you a chance to taste through 170 California craft breweries\, outside on Marina Green Park. Attendees will be able to tour their way through the unique regions of craft beer across the state   tasting samples from San Diego\, Sacramento\, San Francisco\, Central California and Los Angeles! Get to know what you are drinking and what makes the craft beer industry so exciting! At the Summit Beer Festival\, the owners and brewers at your favorite breweries (or new favorite breweries) will be able to pour you a taste of beer and tell you why they brewed it! PURCHASE YOUR TICKET TODAY to grab an early bird price or upgrade to the VIP hour! Check out the brewery list here: https://www.californiacraftbeer.com/craft-beer-summit/beerfestival/
X-ALT-DESC;FMTTYPE=text/html:The Summit Beer Festival is the LARGEST event on the West Coast that gives you a chance to taste through 170 California craft breweries\, outside on Marina Green Park. Attendees will be able to tour their way through the unique regions of craft beer across the state &ndash\; tasting samples from San Diego\, Sacramento\, San Francisco\, Central California and Los Angeles! Get to know what you are drinking and what makes the craft beer industry so exciting! At the Summit Beer Festival\, the owners and brewers at your favorite breweries (or new favorite breweries) will be able to pour you a taste of beer and tell you why they brewed it! PURCHASE YOUR TICKET TODAY to grab an early bird price or upgrade to the VIP hour! Check out the brewery list here: https://www.californiacraftbeer.com/craft-beer-summit/beerfestival/
LOCATION:Marina Green Park 386 E Shoreline Dr. Long Beach\, CA 90803
UID:e.1956.4524
SEQUENCE:3
DTSTAMP:20260419T151951Z
URL:https://business.lbchamber.com/events/details/summit-beer-festival-4524
END:VEVENT

END:VCALENDAR
