BEGIN:VCALENDAR
VERSION:2.0
PRODID:-//ChamberMaster//Event Calendar 2.0//EN
METHOD:PUBLISH
X-PUBLISHED-TTL:P3D
REFRESH-INTERVAL:P3D
CALSCALE:GREGORIAN
BEGIN:VEVENT
DTSTART:20190823T233000Z
DTEND:20190824T040000Z
X-MICROSOFT-CDO-ALLDAYEVENT:FALSE
SUMMARY:Summer Scramble and Block Party at Recreation Park 18 Golf Course
DESCRIPTION:9-hole LB Summer Scramble I Shotgun starting at 4:30pm\n\n$40 for 9 hole non-Player's Club members (includes Green Fee\, Cart Fee\, Range Balls\, and two beers).\n\n$30 for Player's Club members (includes Green Fee\, Cart Fee\, Range Balls\, and two beers).\n\nCall our Pro-Shop to join the Tournament at (562)494-5000 x 223 \n\n*invited to attend summer block party following shotgun\n\nBlock Party - 6pm   9pm\n\nFamily-friendly summer "block" party complete with food trucks\, lawn games\, prizes\, music\, & a bounce house - FREE to the public! RSVP for the block party through Eventbrite\n\n*still welcome to block party w/out playing in the tournament\n\n*All drinks & food will be available for purchase. Please note outside food & beverages are not permitted.
X-ALT-DESC;FMTTYPE=text/html:<p>9-hole LB Summer Scramble I Shotgun starting at 4:30pm</p>\n\n<p>$40 for 9 hole non-Player&rsquo\;s Club members (includes Green Fee\, Cart Fee\, Range Balls\, and two beers).</p>\n\n<p>$30 for Player&rsquo\;s Club members (includes Green Fee\, Cart Fee\, Range Balls\, and two beers).</p>\n\n<p><strong>Call our Pro-Shop to join the Tournament at (562)494-5000 x 223 </strong></p>\n\n<p>*invited to attend summer block party following shotgun</p>\n\n<p>Block Party - 6pm &ndash\; 9pm</p>\n\n<p>Family-friendly summer &ldquo\;block&rdquo\; party complete with food trucks\, lawn games\, prizes\, music\, &amp\; a bounce house - FREE to the public! <strong>RSVP for the block party through Eventbrite</strong></p>\n\n<p>*still welcome to block party w/out playing in the tournament</p>\n\n<p>*All drinks &amp\; food will be available for purchase. Please note outside food &amp\; beverages are not permitted.&nbsp\;</p>\n
LOCATION:Recreation Park 18 Golf Course
UID:e.1956.4570
SEQUENCE:3
DTSTAMP:20260419T164146Z
URL:https://business.lbchamber.com/events/details/summer-scramble-and-block-party-at-recreation-park-18-golf-course-08-23-2019-4570
END:VEVENT

END:VCALENDAR
