BEGIN:VCALENDAR
VERSION:2.0
PRODID:-//ChamberMaster//Event Calendar 2.0//EN
METHOD:PUBLISH
X-PUBLISHED-TTL:P3D
REFRESH-INTERVAL:P3D
CALSCALE:GREGORIAN
BEGIN:VEVENT
DTSTART:20190227T023000Z
DTEND:20190227T050000Z
X-MICROSOFT-CDO-ALLDAYEVENT:FALSE
SUMMARY:Stories From the Frontline - Long Beach
DESCRIPTION:Join us for an evening of storytelling and celebration from people who have triumphed over homelessness and adversity in the community and the people who are working to be part of the solution. Tickets are FREE - get them at the Ticket link above. Everyone In: Stories from the Frontline is an opportunity for people in the community who have experienced homelessness\, or worked to end it\, to share personal stories of strength and perseverance. These events are moving\, empowering\, and joyful. As always\, parking\, food\, and childcare is free.
X-ALT-DESC;FMTTYPE=text/html:Join us for an evening of storytelling and celebration from people who have triumphed over homelessness and adversity in the community and the people who are working to be part of the solution. Tickets are FREE - get them at the Ticket link above. Everyone In: Stories from the Frontline is an opportunity for people in the community who have experienced homelessness\, or worked to end it\, to share personal stories of strength and perseverance. These events are moving\, empowering\, and joyful. As always\, parking\, food\, and childcare is free.
LOCATION:Museum of Latin American Art (MOLAA) 628 Alamitos Ave\, Long Beach\, California 90802
UID:e.1956.4431
SEQUENCE:3
DTSTAMP:20260420T012302Z
URL:https://business.lbchamber.com/events/details/stories-from-the-frontline-long-beach-4431
END:VEVENT

END:VCALENDAR
