BEGIN:VCALENDAR
VERSION:2.0
PRODID:-//ChamberMaster//Event Calendar 2.0//EN
METHOD:PUBLISH
X-PUBLISHED-TTL:P3D
REFRESH-INTERVAL:P3D
CALSCALE:GREGORIAN
BEGIN:VEVENT
DTSTART:20150611T020000Z
DTEND:20150611T050000Z
X-MICROSOFT-CDO-ALLDAYEVENT:FALSE
SUMMARY:Stand up Comedy Show: "The perfect Match"
DESCRIPTION:The Perfect Match is the combination of two unique stand-up artists designed to offer you the most complete and original comedy shows. When inviting this team to your comedy club\, you will provide your audience with a full evening of laughters. Both Richard Villa and Armando Anto will come on stage for great solo performances\, covering a complementary range of talents\, emotions and topics that will be most appreciated and remembered. Having The Perfect Match coming to your place guarantees two high quality shows that will work together to create the best comedy experience\, and the most unique evening for your guests.
X-ALT-DESC;FMTTYPE=text/html:The Perfect Match is the combination of two unique stand-up artists designed to offer you the most complete and original comedy shows. When inviting this team to your comedy club\, you will provide your audience with a full evening of laughters. Both Richard Villa and Armando Anto will come on stage for great solo performances\, covering a complementary range of talents\, emotions and topics that will be most appreciated and remembered. Having The Perfect Match coming to your place guarantees two high quality shows that will work together to create the best comedy experience\, and the most unique evening for your guests.
LOCATION:Gaslamp In Long Beach 6251 E Pacific Coast Hwy\, Long Beach\, CA 90803 (562) 596-4718
UID:e.1956.2467
SEQUENCE:3
DTSTAMP:20260424T023815Z
URL:https://business.lbchamber.com/events/details/stand-up-comedy-show-the-perfect-match-06-10-2015-2467
END:VEVENT

END:VCALENDAR
