BEGIN:VCALENDAR
VERSION:2.0
PRODID:-//ChamberMaster//Event Calendar 2.0//EN
METHOD:PUBLISH
X-PUBLISHED-TTL:P3D
REFRESH-INTERVAL:P3D
CALSCALE:GREGORIAN
BEGIN:VEVENT
DTSTART:20190603T163000Z
DTEND:20190604T030000Z
X-MICROSOFT-CDO-ALLDAYEVENT:FALSE
SUMMARY:St. Mary 27th Annual Golf Classic
DESCRIPTION:St. Mary Medical Center Foundation is proud to hold it's 27th Annual Golf Classic to be held at the Virginia Country Club to help support St. Mary Medical Center Community Benefit Programs.
X-ALT-DESC;FMTTYPE=text/html:St. Mary Medical Center Foundation is proud to hold it&#39\;s 27th Annual Golf Classic to be held at the Virginia Country Club to help support St. Mary Medical Center Community Benefit Programs.
LOCATION:Virginia Country Club 4602 Virginia Road\, Long Beach 90807
UID:e.1956.4397
SEQUENCE:3
DTSTAMP:20260419T193042Z
URL:https://business.lbchamber.com/events/details/st-mary-27th-annual-golf-classic-4397
END:VEVENT

END:VCALENDAR
