BEGIN:VCALENDAR
VERSION:2.0
PRODID:-//ChamberMaster//Event Calendar 2.0//EN
METHOD:PUBLISH
X-PUBLISHED-TTL:P3D
REFRESH-INTERVAL:P3D
CALSCALE:GREGORIAN
BEGIN:VEVENT
DTSTART:20181118T010000Z
DTEND:20181118T060000Z
X-MICROSOFT-CDO-ALLDAYEVENT:FALSE
SUMMARY:St. Anthony High School Athletic Hall of Fame
DESCRIPTION:An evening to honor SAHS Hall of Fame inductees with proceeds to benefit athletic renovations.
X-ALT-DESC;FMTTYPE=text/html:An evening to honor SAHS Hall of Fame inductees with proceeds to benefit athletic renovations.
LOCATION:The Reef on the Water 880 Harbor Scenic Drive Long Beach\, CA
UID:e.1956.4339
SEQUENCE:3
DTSTAMP:20260420T060321Z
URL:https://business.lbchamber.com/events/details/st-anthony-high-school-athletic-hall-of-fame-4339
END:VEVENT

END:VCALENDAR
