BEGIN:VCALENDAR
VERSION:2.0
PRODID:-//ChamberMaster//Event Calendar 2.0//EN
METHOD:PUBLISH
X-PUBLISHED-TTL:P3D
REFRESH-INTERVAL:P3D
CALSCALE:GREGORIAN
BEGIN:VEVENT
DTSTART:20140509T003000Z
DTEND:20140509T020000Z
X-MICROSOFT-CDO-ALLDAYEVENT:FALSE
SUMMARY:Spring Travel Mixer
DESCRIPTION:We are excited to invite our Chamber members\, travelers\, friends & family to an exclusive spring time travel information mixer!
X-ALT-DESC;FMTTYPE=text/html:We are excited to invite our Chamber members\, travelers\, friends &amp\; family to an exclusive spring time travel information mixer!&nbsp\;&nbsp\;&nbsp\;&nbsp\;
LOCATION:Forbidden City Restaurant 6380 E. Pacific Coast Hwy. Long Beach\, CA 90803
UID:e.1956.1246
SEQUENCE:3
DTSTAMP:20260422T133614Z
URL:https://business.lbchamber.com/events/details/spring-travel-mixer-05-08-2014-1246
END:VEVENT

END:VCALENDAR
