BEGIN:VCALENDAR
VERSION:2.0
PRODID:-//ChamberMaster//Event Calendar 2.0//EN
METHOD:PUBLISH
X-PUBLISHED-TTL:P3D
REFRESH-INTERVAL:P3D
CALSCALE:GREGORIAN
BEGIN:VEVENT
DTSTART:20150522T003000Z
DTEND:20150522T023000Z
X-MICROSOFT-CDO-ALLDAYEVENT:FALSE
SUMMARY:Spring into Business Mega-Mixer
DESCRIPTION:Speed Network with Members from Long Beach's top organizations!\n\nThank you to the generous support from our sponsors - International City Bank and H&R Block!
X-ALT-DESC;FMTTYPE=text/html:Speed Network with Members from Long Beach&#39\;s top organizations!<br />\nThank you to the generous support from our sponsors - International City Bank and H&amp\;R Block!&nbsp\;
LOCATION:International City Bank 249 E. Ocean Blvd. Long Beach\, CA 90802
UID:e.1956.2407
SEQUENCE:3
DTSTAMP:20260421T210306Z
URL:https://business.lbchamber.com/events/details/spring-into-business-mega-mixer-05-21-2015-2407
END:VEVENT

END:VCALENDAR
