BEGIN:VCALENDAR
VERSION:2.0
PRODID:-//ChamberMaster//Event Calendar 2.0//EN
METHOD:PUBLISH
X-PUBLISHED-TTL:P3D
REFRESH-INTERVAL:P3D
CALSCALE:GREGORIAN
BEGIN:VEVENT
DTSTART:20181204T030000Z
DTEND:20181204T041500Z
X-MICROSOFT-CDO-ALLDAYEVENT:FALSE
SUMMARY:Speechwriting 101: Developing a Well-Crafted Speec
DESCRIPTION:Rough Writers Toastmasters Club presents Speechwriting 101: Developing a Well-Crafted Speech with Carma Spence\, Author of the bestseller Public Speaking Super Powers During this mini-workshop\, you'll learn: How to organize your speech for maximum impact How to weave your Call to action into your speech How to open and close a speech with power WHEN: Dec. 3\, 2018\, 7-8:15pm WHERE: The Historic Firehouse\, 5373 E. 2nd St.\, Long Beach\, CA The mini-workshop will be incorporated into a Toastmasters meeting format. Get a taste of Toastmasters\, as well as Rough Writers' unique personality. A limited number of paperback and hardcover books will be available for sale. Carma will be signing them at the end of the event.
X-ALT-DESC;FMTTYPE=text/html:Rough Writers Toastmasters Club presents Speechwriting 101: Developing a Well-Crafted Speech with Carma Spence\, Author of the bestseller Public Speaking Super Powers During this mini-workshop\, you&#39\;ll learn: How to organize your speech for maximum impact How to weave your Call to action into your speech How to open and close a speech with power WHEN: Dec. 3\, 2018\, 7-8:15pm WHERE: The Historic Firehouse\, 5373 E. 2nd St.\, Long Beach\, CA The mini-workshop will be incorporated into a Toastmasters meeting format. Get a taste of Toastmasters\, as well as Rough Writers&#39\; unique personality. A limited number of paperback and hardcover books will be available for sale. Carma will be signing them at the end of the event.
LOCATION:The Historic Firehouse\, 5373 E. 2nd St.\, Long Beach\, CA
UID:e.1956.4390
SEQUENCE:3
DTSTAMP:20260420T042644Z
URL:https://business.lbchamber.com/events/details/speechwriting-101-developing-a-well-crafted-speec-4390
END:VEVENT

END:VCALENDAR
