BEGIN:VCALENDAR
VERSION:2.0
PRODID:-//ChamberMaster//Event Calendar 2.0//EN
METHOD:PUBLISH
X-PUBLISHED-TTL:P3D
REFRESH-INTERVAL:P3D
CALSCALE:GREGORIAN
BEGIN:VEVENT
DTSTART:20150613T160000Z
DTEND:20150614T220000Z
X-MICROSOFT-CDO-ALLDAYEVENT:FALSE
SUMMARY:Special Olympics Southern California Summer Games
DESCRIPTION:Witness the human spirit on full display at the 2015 Summer Games. More than 1\,100 athletes from across Southern California will compete for gold\, silver\, and bronze medals and ribbons. The Games will feature our six summer sports ? aquatics\, athletics (track & field)\, basketball\, bocce\, golf\, and gymnastics. Summer Games is our largest competition of the year and the first of two Southern California competitions held every year. The event is free to the public. More information and volunteer opportunities available by visiting our website at www.sosc.org/summergames.
X-ALT-DESC;FMTTYPE=text/html:Witness the human spirit on full display at the 2015 Summer Games. More than 1\,100 athletes from across Southern California will compete for gold\, silver\, and bronze medals and ribbons. The Games will feature our six summer sports ? aquatics\, athletics (track &amp\; field)\, basketball\, bocce\, golf\, and gymnastics. Summer Games is our largest competition of the year and the first of two Southern California competitions held every year. The event is free to the public. More information and volunteer opportunities available by visiting our website at www.sosc.org/summergames.
LOCATION:Cal State University\, Long Beach (1250 Bellflower Blvd\, Long Beach\, CA 90840)
UID:e.1956.2442
SEQUENCE:3
DTSTAMP:20260424T024115Z
URL:https://business.lbchamber.com/events/details/special-olympics-southern-california-summer-games-06-13-2015-2442
END:VEVENT

END:VCALENDAR
