BEGIN:VCALENDAR
VERSION:2.0
PRODID:-//ChamberMaster//Event Calendar 2.0//EN
METHOD:PUBLISH
X-PUBLISHED-TTL:P3D
REFRESH-INTERVAL:P3D
CALSCALE:GREGORIAN
BEGIN:VEVENT
DTSTART:20181021T003000Z
DTEND:20181021T033000Z
X-MICROSOFT-CDO-ALLDAYEVENT:FALSE
SUMMARY:Speakeasy Soiree 1920s Celebration for Arts Education! Live Music
DESCRIPTION:Get ready to groove\, mix and mingle as we step into the Roaring Twenties to celebrate 25 years of arts-integrated education. Enjoy a delectable array of interactive art stations\, live music with a dance floor to tap your toes\, hors d'oeuvres\, a 1920's inspired photo booth and an evening you won't soon forget. After purchasing your ticket\, you'll be given a password and specific instructions on how to enter the joint so we don't get raided by the fuzz. Get all dolled up and dapper and join us for a fun speakeasy evening! This event celebrates the 25th anniversary of Dramatic Results and proceeds benefit arts-based education for at risk youth. Must be 21+ to attend.
X-ALT-DESC;FMTTYPE=text/html:Get ready to groove\, mix and mingle as we step into the Roaring Twenties to celebrate 25 years of arts-integrated education. Enjoy a delectable array of interactive art stations\, live music with a dance floor to tap your toes\, hors d&#39\;oeuvres\, a 1920&#39\;s inspired photo booth and an evening you won&rsquo\;t soon forget. After purchasing your ticket\, you&rsquo\;ll be given a password and specific instructions on how to enter the joint so we don&rsquo\;t get raided by the fuzz. Get all dolled up and dapper and join us for a fun speakeasy evening! This event celebrates the 25th anniversary of Dramatic Results and proceeds benefit arts-based education for at risk youth. Must be 21+ to attend.
LOCATION:Dramatic Results Art Studio: 3310 Lime Ave. Signal Hill\, CA 90755
UID:e.1956.4352
SEQUENCE:3
DTSTAMP:20260420T074632Z
URL:https://business.lbchamber.com/events/details/speakeasy-soiree-1920s-celebration-for-arts-education-live-music-4352
END:VEVENT

END:VCALENDAR
