BEGIN:VCALENDAR
VERSION:2.0
PRODID:-//ChamberMaster//Event Calendar 2.0//EN
METHOD:PUBLISH
X-PUBLISHED-TTL:P3D
REFRESH-INTERVAL:P3D
CALSCALE:GREGORIAN
BEGIN:VEVENT
DTSTART:20150724T190000Z
DTEND:20150724T210000Z
X-MICROSOFT-CDO-ALLDAYEVENT:FALSE
SUMMARY:Southern California Water Committee Quarterly Luncheon
DESCRIPTION:Keynote speaker is Karla Nemeth from the Natural Resources Agency with a briefing on the released EIR/EIS documents for the California Water Fix project\, and a panel discussion on sustainability and water use efficiency by key business industries.
X-ALT-DESC;FMTTYPE=text/html:Keynote speaker is Karla Nemeth from the Natural Resources Agency with a briefing on the released EIR/EIS documents for the California Water Fix project\, and a panel discussion on sustainability and water use efficiency by key business industries.
LOCATION:The Grand Long Beach Event Center 4101 E Willow St. Long Beach\, CA 90815
UID:e.1956.2483
SEQUENCE:3
DTSTAMP:20260424T013155Z
URL:https://business.lbchamber.com/events/details/southern-california-water-committee-quarterly-luncheon-07-24-2015-2483
END:VEVENT

END:VCALENDAR
