BEGIN:VCALENDAR
VERSION:2.0
PRODID:-//ChamberMaster//Event Calendar 2.0//EN
METHOD:PUBLISH
X-PUBLISHED-TTL:P3D
REFRESH-INTERVAL:P3D
CALSCALE:GREGORIAN
BEGIN:VEVENT
DTSTART;VALUE=DATE:20141023
DTEND;VALUE=DATE:20141025
TRANSP:TRANSPARENT
X-MICROSOFT-CDO-ALLDAYEVENT:TRUE
SUMMARY:Southern California Diversity IN Leadership Conference 2014
DESCRIPTION:
X-ALT-DESC;FMTTYPE=text/html:
LOCATION:
UID:e.1956.1228
SEQUENCE:3
DTSTAMP:20260424T125434Z
URL:https://business.lbchamber.com/events/details/southern-california-diversity-in-leadership-conference-2014-10-23-2014-1228
END:VEVENT

END:VCALENDAR
