BEGIN:VCALENDAR
VERSION:2.0
PRODID:-//ChamberMaster//Event Calendar 2.0//EN
METHOD:PUBLISH
X-PUBLISHED-TTL:P3D
REFRESH-INTERVAL:P3D
CALSCALE:GREGORIAN
BEGIN:VEVENT
DTSTART:20160401T003000Z
DTEND:20160401T023000Z
X-MICROSOFT-CDO-ALLDAYEVENT:FALSE
SUMMARY:South Bay of Los Angeles Networking Event
DESCRIPTION:Come join us for a great night of networking at the LA Galaxy Stub Hub Center with chambers from all over South Los Angeles.  South LA chambers from Cerritos to Manhattan Beach and down south to Carson.  \n\n\n\nThank you to our Sponsor \n\nMicrosoft \n\n\n\nTickets are $15
X-ALT-DESC;FMTTYPE=text/html:<span style="color: rgb(102\, 102\, 102)\; font-family: Cabin\, sans-serif\; font-size: 12px\; line-height: 15.6px\;">Come join us for a great night of networking at the LA Galaxy Stub Hub Center&nbsp\;with chambers from all over South Los Angeles. &nbsp\;South LA chambers from Cerritos to Manhattan Beach and down south to Carson. &nbsp\;</span><br style="bottom: auto\; box-sizing: content-box\; clear: none\; color: rgb(102\, 102\, 102)\; content: normal\; direction: inherit\; display: inline\; empty-cells: show\; float: none\; font-stretch: inherit\; font-size: 12px\; font-family: Cabin\, sans-serif\; left: auto\; line-height: 15.6px\; margin: 0px\; max-height: none\; max-width: none\; min-height: initial\; min-width: initial\; opacity: 1\; outline: invert none medium\; outline-offset: 0px\; overflow: visible\; padding: 0px\; position: static\; resize: none\; right: auto\; table-layout: auto\; text-overflow: clip\; top: auto\; vertical-align: baseline\; visibility: inherit\; word-break: inherit\; word-wrap: inherit\; z-index: auto\; border: none\; border-collapse: separate\; border-image-source: none\; border-image-slice: 100% 1 0\; border-image-repeat: stretch\; border-radius: 0px\; height: auto\; width: auto\; background-image: none\; background-attachment: initial\; background-size: initial\; background-origin: initial\; background-clip: initial\; background-position: initial\; background-repeat: initial\;" />\n<br style="bottom: auto\; box-sizing: content-box\; clear: none\; color: rgb(102\, 102\, 102)\; content: normal\; direction: inherit\; display: inline\; empty-cells: show\; float: none\; font-stretch: inherit\; font-size: 12px\; font-family: Cabin\, sans-serif\; left: auto\; line-height: 15.6px\; margin: 0px\; max-height: none\; max-width: none\; min-height: initial\; min-width: initial\; opacity: 1\; outline: invert none medium\; outline-offset: 0px\; overflow: visible\; padding: 0px\; position: static\; resize: none\; right: auto\; table-layout: auto\; text-overflow: clip\; top: auto\; vertical-align: baseline\; visibility: inherit\; word-break: inherit\; word-wrap: inherit\; z-index: auto\; border: none\; border-collapse: separate\; border-image-source: none\; border-image-slice: 100% 1 0\; border-image-repeat: stretch\; border-radius: 0px\; height: auto\; width: auto\; background-image: none\; background-attachment: initial\; background-size: initial\; background-origin: initial\; background-clip: initial\; background-position: initial\; background-repeat: initial\;" />\n<span style="color: rgb(102\, 102\, 102)\; font-family: Cabin\, sans-serif\; font-size: 12px\; line-height: 15.6px\;">Thank you to our Sponsor&nbsp\;</span><br style="bottom: auto\; box-sizing: content-box\; clear: none\; color: rgb(102\, 102\, 102)\; content: normal\; direction: inherit\; display: inline\; empty-cells: show\; float: none\; font-stretch: inherit\; font-size: 12px\; font-family: Cabin\, sans-serif\; left: auto\; line-height: 15.6px\; margin: 0px\; max-height: none\; max-width: none\; min-height: initial\; min-width: initial\; opacity: 1\; outline: invert none medium\; outline-offset: 0px\; overflow: visible\; padding: 0px\; position: static\; resize: none\; right: auto\; table-layout: auto\; text-overflow: clip\; top: auto\; vertical-align: baseline\; visibility: inherit\; word-break: inherit\; word-wrap: inherit\; z-index: auto\; border: none\; border-collapse: separate\; border-image-source: none\; border-image-slice: 100% 1 0\; border-image-repeat: stretch\; border-radius: 0px\; height: auto\; width: auto\; background-image: none\; background-attachment: initial\; background-size: initial\; background-origin: initial\; background-clip: initial\; background-position: initial\; background-repeat: initial\;" />\n<span style="color: rgb(102\, 102\, 102)\; font-family: Cabin\, sans-serif\; font-size: 12px\; line-height: 15.6px\;">Microsoft&nbsp\;</span><br />\n<br />\nTickets are $15
LOCATION:Stubhub Center 18400 Avalon Blvd Carson\, CA 90746
UID:e.1956.2767
SEQUENCE:3
DTSTAMP:20260420T144153Z
URL:https://business.lbchamber.com/events/details/south-bay-of-los-angeles-networking-event-03-31-2016-2767
END:VEVENT

END:VCALENDAR
