BEGIN:VCALENDAR
VERSION:2.0
PRODID:-//ChamberMaster//Event Calendar 2.0//EN
METHOD:PUBLISH
X-PUBLISHED-TTL:P3D
REFRESH-INTERVAL:P3D
CALSCALE:GREGORIAN
BEGIN:VEVENT
DTSTART:20190907T020000Z
DTEND:20190908T050000Z
X-MICROSOFT-CDO-ALLDAYEVENT:FALSE
SUMMARY:Somos Arte: Music & Arts Festival
DESCRIPTION:Join us September 6th and 7th at the official launch event for Somos Arte: The Creative Movement of El Salvador at MOLAA in Long Beach\, CA. Friday September 6th\, 2019 - (7PM-10PM)
X-ALT-DESC;FMTTYPE=text/html:Join us September 6th and 7th at the official launch event for Somos Arte: The Creative Movement of El Salvador at MOLAA in Long Beach\, CA. Friday September 6th\, 2019 - (7PM-10PM)
LOCATION:MOLAA
UID:e.1956.4564
SEQUENCE:3
DTSTAMP:20260419T154710Z
URL:https://business.lbchamber.com/events/details/somos-arte-music-arts-festival-4564
END:VEVENT

END:VCALENDAR
