BEGIN:VCALENDAR
VERSION:2.0
PRODID:-//ChamberMaster//Event Calendar 2.0//EN
METHOD:PUBLISH
X-PUBLISHED-TTL:P3D
REFRESH-INTERVAL:P3D
CALSCALE:GREGORIAN
BEGIN:VEVENT
DTSTART:20201022T200000Z
DTEND:20201022T210000Z
X-MICROSOFT-CDO-ALLDAYEVENT:FALSE
SUMMARY:Small Business Q&A - Financial Discussion including cash flow\, taxes\, PPP forgiveness & more
DESCRIPTION:Hosted by LA SBDC Associate Director Ted Hiatt\, these webinars are an opportunity to learn about resources available through local and federal governments\, as well as to ask questions about cash flow\, PPP forgiveness\, re-opening strategies\, and more.\n\n\n\nWednesday's webinars will feature advice from Lori Williams\, SBDC Business Advisor and Small Business Finance Expert\, who will address your PPP/EIDL\, EDD and cash-flow-related questions.\n\n\n\nThursday's webinars will feature advice from GB Bajaj\, SBDC Business Advisor and CPA. Topics will include PPP/EIDL and tax-related information.
X-ALT-DESC;FMTTYPE=text/html:<span style="background:white\;"><span style="color:#232333\;"><span style="font-size:10.5pt\;">Hosted by LA SBDC Associate Director Ted Hiatt\, these webinars are an opportunity to learn about resources available through local and federal governments\, as well as to ask questions about cash flow\, PPP forgiveness\, re-opening strategies\, and more.</span></span></span><br />\n<br />\n<span style="color:#232333\;"><span style="font-size:10.5pt\;"><span style="background:white\;">Wednesday&#39\;s webinars will feature advice from Lori Williams\, SBDC Business Advisor and Small Business Finance Expert\, who will address your PPP/EIDL\, EDD and cash-flow-related questions.</span><br />\n<br />\n<span style="background:white\;">Thursday&#39\;s webinars will feature advice from GB Bajaj\, SBDC Business Advisor and CPA. Topics will include PPP/EIDL and tax-related information.</span></span></span><br />\n&nbsp\;
LOCATION:Virtual (Zoom)
UID:e.1956.4964
SEQUENCE:3
DTSTAMP:20260420T231409Z
URL:https://business.lbchamber.com/events/details/small-business-q-a-financial-discussion-including-cash-flow-taxes-ppp-forgiveness-more-4964
END:VEVENT

END:VCALENDAR
