BEGIN:VCALENDAR
VERSION:2.0
PRODID:-//ChamberMaster//Event Calendar 2.0//EN
METHOD:PUBLISH
X-PUBLISHED-TTL:P3D
REFRESH-INTERVAL:P3D
CALSCALE:GREGORIAN
BEGIN:VEVENT
DTSTART:20151105T173000Z
DTEND:20151106T000000Z
X-MICROSOFT-CDO-ALLDAYEVENT:FALSE
SUMMARY:Small Business Expo - Los Angeles
DESCRIPTION:Small Business Expo is the most anticipated networking event of the year for business professionals to learn about products & services to help their business exceed its goals\, network with other industry professionals & attend informative and cutting-edge workshops & seminars. If you are a business owner\, entrepreneur or someone that works for a small business you should attend this trade show & conference. \n\nWHY ATTEND?\n\n\n	Network with thousands of business owners\, entrepreneurs & start-ups\n	Establish hundreds of new contacts and reconnect with old ones.\n	Attend FREE business critical workshops & seminars.\n	Learn about new products and services that will help your business grow.\n	Interact with the movers and shakers of your industry.\n	Discover new and innovative technologies.\n	Be in the RIGHT place at the RIGHT time.\n	It's FREE to attend!
X-ALT-DESC;FMTTYPE=text/html:<p style="margin: 0px\; padding: 0px 0px 8px\; line-height: normal\; color: rgb(0\, 0\, 0)\; font-family: 'Helvetica Neue'\, Helvetica\, Arial\, sans-serif\; font-size: 13.2px\; letter-spacing: 0.5px\;"><br />\n<strong style="font-family: verdana\, geneva\; font-size: small\; line-height: 1.6em\;">Small Business Expo</strong><span style="font-family: verdana\, geneva\; font-size: small\; line-height: 1.6em\;">&nbsp\;is the most anticipated networking event of the year for business professionals to learn about products &amp\; services to help their business exceed its goals\, network with other industry professionals &amp\; attend informative and cutting-edge workshops &amp\; seminars. If you are a business owner\, entrepreneur or someone that works for a small business you should attend this trade show &amp\; conference.</span><span style="line-height: 1.6em\;">&nbsp\;</span></p>\n\n<p style="margin: 0px\; padding: 0px 0px 8px\; line-height: normal\; color: rgb(0\, 0\, 0)\; font-family: 'Helvetica Neue'\, Helvetica\, Arial\, sans-serif\; font-size: 13.2px\; letter-spacing: 0.5px\;"><span style="font-family: verdana\, geneva\;"><strong>WHY ATTEND?</strong></span></p>\n\n<ul style="margin: 1em 0px\; padding-right: 0px\; color: rgb(0\, 0\, 0)\; font-family: 'Helvetica Neue'\, Helvetica\, Arial\, sans-serif\; font-size: 13.2px\; letter-spacing: 0.5px\; line-height: 15.84px\;">\n	<li style="margin: 0px\; padding: 0px\;"><span style="line-height: 1.6em\; font-size: small\; font-family: verdana\, geneva\;">Network with thousands of business owners\, entrepreneurs &amp\; start-ups</span></li>\n	<li style="margin: 0px\; padding: 0px\;"><span style="line-height: 1.6em\; font-size: small\; font-family: verdana\, geneva\;">Establish hundreds of new contacts and reconnect with old ones.</span></li>\n	<li style="margin: 0px\; padding: 0px\;"><span style="line-height: 1.6em\; font-size: small\; font-family: verdana\, geneva\;">Attend FREE business critical workshops &amp\; seminars.</span></li>\n	<li style="margin: 0px\; padding: 0px\;"><span style="line-height: 1.6em\; font-size: small\; font-family: verdana\, geneva\;">Learn about new products and services that will help your business grow.</span></li>\n	<li style="margin: 0px\; padding: 0px\;"><span style="line-height: 1.6em\; font-size: small\; font-family: verdana\, geneva\;">Interact with the movers and shakers of your industry.</span></li>\n	<li style="margin: 0px\; padding: 0px\;"><span style="line-height: 1.6em\; font-size: small\; font-family: verdana\, geneva\;">Discover new and innovative technologies.</span></li>\n	<li style="margin: 0px\; padding: 0px\;"><span style="line-height: 1.6em\; font-size: small\; font-family: verdana\, geneva\;">Be in the RIGHT place at the RIGHT time.</span></li>\n	<li style="margin: 0px\; padding: 0px\;"><span style="font-family: verdana\, geneva\; font-size: small\; line-height: 1.6em\;">It&#39\;s FREE to attend!</span></li>\n</ul>\n
LOCATION:California Market Center - Penthouse 110 E. 9th Street Los Angeles CA 90079
UID:e.1956.2548
SEQUENCE:3
DTSTAMP:20260420T194728Z
URL:https://business.lbchamber.com/events/details/small-business-expo-los-angeles-11-05-2015-2548
END:VEVENT

END:VCALENDAR
