BEGIN:VCALENDAR
VERSION:2.0
PRODID:-//ChamberMaster//Event Calendar 2.0//EN
METHOD:PUBLISH
X-PUBLISHED-TTL:P3D
REFRESH-INTERVAL:P3D
CALSCALE:GREGORIAN
BEGIN:VEVENT
DTSTART:20150319T230000Z
DTEND:20150320T030000Z
X-MICROSOFT-CDO-ALLDAYEVENT:FALSE
SUMMARY:Skin Renewal Event at Polished Rx Skin Couture
DESCRIPTION:Skin Renewal EventThursday\n\n						March 19th\n\n						4-8pm!\n						\n					\n				\n			\n			\n		\n	\n\n\n\n	\n		\n			\n			\n				\n					\n						1/2 OFF 3/19 ONLY! Choose from:\n\n						\n							DermaPen Skin Renewal\n							Precision Peel (Level 1\, 2 or 3)\n							OR Combine DermaPen & Precision Peel for optimal results!\n							Dermaplaning & Custom Peel\n						\n						10% off PCA\, Glo Therapeutics & Image Skincare!\n\n						\n\n						Exclusive offers & gift bags for attendees!\n\n						\n\n						Spaces are limited\, don't miss out!
X-ALT-DESC;FMTTYPE=text/html:<table border="0" cellpadding="0" cellspacing="0" style="background-color:rgb(245\, 245\, 239)\; border-collapse:collapse\; color:rgb(34\, 34\, 34)\; font-family:arial\,sans-serif\; font-size:13px\; width:100%">\n	<tbody>\n		<tr>\n			<td>\n			<table align="left" border="0" cellpadding="0" cellspacing="0" style="border-collapse:collapse\; width:299px">\n				<tbody>\n					<tr>\n						<td>\n						<h3><span style="font-size:18px"><span style="color:rgb(0\, 128\, 128)"><strong>Skin Renewal Event</strong></span><strong>Thursday<br />\n						March 19th<br />\n						4-8pm!</strong></span></h3>\n						</td>\n					</tr>\n				</tbody>\n			</table>\n			</td>\n		</tr>\n	</tbody>\n</table>\n\n<table border="0" cellpadding="0" cellspacing="0" style="background-color:rgb(245\, 245\, 239)\; border-collapse:collapse\; color:rgb(34\, 34\, 34)\; font-family:arial\,sans-serif\; font-size:13px\; width:100%">\n	<tbody>\n		<tr>\n			<td>\n			<table align="left" border="0" cellpadding="0" cellspacing="0" style="border-collapse:collapse\; width:299px">\n				<tbody>\n					<tr>\n						<td><span style="font-size:16px"><strong>1/2 OFF 3/19 ONLY!&nbsp\;</strong>Choose from:</span>\n\n						<ul>\n							<li><span style="font-size:16px">DermaPen Skin Renewal</span></li>\n							<li><span style="font-size:16px">Precision Peel (Level 1\, 2 or 3)</span></li>\n							<li><span style="font-size:16px">OR Combine DermaPen &amp\; Precision Peel for optimal results!</span></li>\n							<li><span style="font-size:16px">Dermaplaning &amp\; Custom Peel</span></li>\n						</ul>\n						<span style="font-size:16px"><strong><span style="color:rgb(0\, 128\, 128)">10% off PCA\, Glo Therapeutics &amp\; Image Skincare!</span></strong><br />\n						<br />\n						<strong><span style="color:rgb(0\, 128\, 128)">Exclusive offers &amp\; gift bags for attendees!</span></strong><br />\n						<br />\n						<strong>Spaces are limited\, don&#39\;t miss out!</strong></span></td>\n					</tr>\n				</tbody>\n			</table>\n			</td>\n		</tr>\n	</tbody>\n</table>\n
LOCATION:Polished Rx Skin Couture
UID:e.1956.2409
SEQUENCE:3
DTSTAMP:20260424T060504Z
URL:https://business.lbchamber.com/events/details/skin-renewal-event-at-polished-rx-skin-couture-03-19-2015-2409
END:VEVENT

END:VCALENDAR
