BEGIN:VCALENDAR
VERSION:2.0
PRODID:-//ChamberMaster//Event Calendar 2.0//EN
METHOD:PUBLISH
X-PUBLISHED-TTL:P3D
REFRESH-INTERVAL:P3D
CALSCALE:GREGORIAN
BEGIN:VEVENT
DTSTART:20181201T170000Z
DTEND:20181201T230000Z
X-MICROSOFT-CDO-ALLDAYEVENT:FALSE
SUMMARY:Skills4Care Workshop
DESCRIPTION:Skills4Care aims to help guide and support family caregivers by providing hands-on training workshop. We will help you be better prepared to care for those you love. Join us at our upcoming Family Caregiver Workshop\, Decmeber 1\, 2018.\n\n\n\nThis event is for family caregivers interested in obtaining free information and resources. See you there!
X-ALT-DESC;FMTTYPE=text/html:<span style="font-size:20px">Skills4Care aims to help guide and support family caregivers by providing hands-on training workshop. We will help you be better prepared to care for those you love. Join us at our upcoming Family Caregiver Workshop\, Decmeber 1\, 2018.<br />\n<br />\nThis event is for family caregivers interested in obtaining free information and resources. See you there!</span>
LOCATION:5199 E Pacific Coast Hwy\, Ste 100B\, Long Beach\, CA 90804
UID:e.1956.4391
SEQUENCE:3
DTSTAMP:20260420T042643Z
URL:https://business.lbchamber.com/events/details/skills4care-workshop-4391
END:VEVENT

END:VCALENDAR
