BEGIN:VCALENDAR
VERSION:2.0
PRODID:-//ChamberMaster//Event Calendar 2.0//EN
METHOD:PUBLISH
X-PUBLISHED-TTL:P3D
REFRESH-INTERVAL:P3D
CALSCALE:GREGORIAN
BEGIN:VEVENT
DTSTART:20150207T230000Z
DTEND:20150208T030000Z
X-MICROSOFT-CDO-ALLDAYEVENT:FALSE
SUMMARY:Sipping with Our Somm Saturday
DESCRIPTION:Join us on our patio for a wine tasting\, light bites and talk with our in-house sommelier. This event's theme is "sweet wines for your sweetheart\;" just in time for Valentine's Day. $25 gets you entry with 5 tasting tickets. Call (562) 432-6500 to make your reservations.
X-ALT-DESC;FMTTYPE=text/html:Join us on our patio for a wine tasting\, light bites and talk with our in-house sommelier. This event&#39\;s theme is &quot\;sweet wines for your sweetheart\;&quot\; just in time for Valentine&#39\;s Day. $25 gets you entry with 5 tasting tickets. Call (562) 432-6500 to make your reservations.
LOCATION:Parkers' Lighthouse 435 Shoreline Village Dr\, Long Beach\, California 90802
UID:e.1956.2403
SEQUENCE:3
DTSTAMP:20260424T071707Z
URL:https://business.lbchamber.com/events/details/sipping-with-our-somm-saturday-02-07-2015-2403
END:VEVENT

END:VCALENDAR
