BEGIN:VCALENDAR
VERSION:2.0
PRODID:-//ChamberMaster//Event Calendar 2.0//EN
METHOD:PUBLISH
X-PUBLISHED-TTL:P3D
REFRESH-INTERVAL:P3D
CALSCALE:GREGORIAN
BEGIN:VEVENT
DTSTART;VALUE=DATE:20151016
DTEND;VALUE=DATE:20151101
TRANSP:TRANSPARENT
X-MICROSOFT-CDO-ALLDAYEVENT:TRUE
SUMMARY:Shoreline Village Halloween Haunted House
DESCRIPTION:YMCA Haunted House at Shoreline Village \n\nOct 16-18\, 21-25\, 28-31\, 4-8 pm Wednesday\, Thursday and Sunday. \n\n3-9 pm Friday and Saturday\n\n$5.00 admission\n\nAll proceeds go to support the YMCA Youth Institute\n\nAbove Shenanigan's Irish Pub & Grille\n\n423 Shoreline Village Drive
X-ALT-DESC;FMTTYPE=text/html:<div><span style="font-family:comic sans ms">YMCA Haunted House at Shoreline Village </span></div>\n\n<div><span style="font-family:comic sans ms">Oct 16-18\, 21-25\, 28-31\, 4-8 pm Wednesday\,&nbsp\;Thursday and Sunday. </span></div>\n\n<div><span style="font-family:comic sans ms">3-9 pm Friday and Saturday</span></div>\n\n<div><span style="font-family:comic sans ms">$5.00 admission</span></div>\n\n<div><span style="font-family:comic sans ms">All proceeds go to support the YMCA Youth Institute</span></div>\n\n<div><span style="font-family:comic sans ms">Above Shenanigan&#39\;s Irish Pub &amp\; Grille</span></div>\n\n<div><span style="font-family:comic sans ms">423 Shoreline Village Drive</span></div>\n
LOCATION:Shoreline Village Above Shenanigan's Irish Pub & Grille 423 Shoreline Village Drive Long Beach 90802
UID:e.1956.2540
SEQUENCE:3
DTSTAMP:20260423T224728Z
URL:https://business.lbchamber.com/events/details/shoreline-village-halloween-haunted-house-10-16-2015-2540
END:VEVENT

END:VCALENDAR
