BEGIN:VCALENDAR
VERSION:2.0
PRODID:-//ChamberMaster//Event Calendar 2.0//EN
METHOD:PUBLISH
X-PUBLISHED-TTL:P3D
REFRESH-INTERVAL:P3D
CALSCALE:GREGORIAN
BEGIN:VEVENT
DTSTART:20151031T010000Z
DTEND:20151101T030000Z
X-MICROSOFT-CDO-ALLDAYEVENT:FALSE
SUMMARY:Shoreline Village Dead Wedding
DESCRIPTION:Shoreline Village presents the Dead Wedding\n\nFriday\, October 30 and Saturday\, October 31\n\nPlays are at 6 pm and 8 pm at the Off Boardwalk Stage\n\nFortune Teller October 30 & 31\, 6-9 pm\n\nOctober 31 activities for children include Magic Show at 2pm\, Balloon Artist 2-5 pm\,\n\nCostume Contest (under 12) 3:00\, Costume Contest (13-18) 5pm\n\nTrick or Treating all day!
X-ALT-DESC;FMTTYPE=text/html:<div>Shoreline Village presents the Dead Wedding</div>\n\n<div>Friday\, October 30 and Saturday\, October 31</div>\n\n<div>Plays are at 6 pm and 8 pm at the Off Boardwalk Stage</div>\n\n<div>Fortune Teller October 30 &amp\; 31\, 6-9 pm</div>\n\n<div>October 31 activities for children include&nbsp\;Magic Show&nbsp\;at 2pm\, Balloon Artist 2-5 pm\,</div>\n\n<div>Costume Contest (under 12) 3:00\, Costume Contest (13-18) 5pm</div>\n\n<div>Trick or Treating all day!</div>\n\n<div><br />\n&nbsp\;</div>\n
LOCATION:Shoreline Village Off Boardwalk Stage
UID:e.1956.2542
SEQUENCE:3
DTSTAMP:20260423T223619Z
URL:https://business.lbchamber.com/events/details/shoreline-village-dead-wedding-10-30-2015-2542
END:VEVENT

END:VCALENDAR
