BEGIN:VCALENDAR
VERSION:2.0
PRODID:-//ChamberMaster//Event Calendar 2.0//EN
METHOD:PUBLISH
X-PUBLISHED-TTL:P3D
REFRESH-INTERVAL:P3D
CALSCALE:GREGORIAN
BEGIN:VEVENT
DTSTART:20151104T020000Z
DTEND:20151106T030000Z
X-MICROSOFT-CDO-ALLDAYEVENT:FALSE
SUMMARY:Shoreline Village City Council Meet & Greet
DESCRIPTION:Shoreline Village City Council Candidate Meet & Greet\n\nEric Gray  -  Tuesday\, November 3\, 6:00 pm?\n\nJoen Garnica - Wednesday\, November 4\, 6:00 pm\n\nJeannine Pearce -  Thursday\, November 5\, 6:00 pm\n\nAt the Off Boardwalk Stage\n\nJoin us for an evening to meet your candidates of the Second District City Council\n\nParking will be validated - $2.00 for 2 hours
X-ALT-DESC;FMTTYPE=text/html:<div>Shoreline Village City Council Candidate Meet &amp\; Greet</div>\n\n<div><span style="font-size:14px">Eric Gray&nbsp\;&nbsp\;-&nbsp\; </span><span style="font-size:12px">Tuesday\, November 3\, 6:00 pm</span>?</div>\n\n<div><span style="font-size:14px">Joen Garnica&nbsp\;- <span style="font-size:12px">Wednesday\, November 4\, 6:00 pm</span></span></div>\n\n<div><span style="font-size:14px"><span style="font-size:12px"><span style="font-size:14px">Jeannine Pearce&nbsp\;- <span style="font-size:12px">&nbsp\;Thursday\, November 5\, 6:00 pm</span></span></span></span></div>\n\n<div><span style="font-size:14px"><span style="font-size:12px"><span style="font-size:14px"><span style="font-size:12px">At the Off Boardwalk Stage</span></span></span></span></div>\n\n<div><span style="font-size:14px"><span style="font-size:12px"><span style="font-size:14px"><span style="font-size:12px">Join us for an evening to meet your candidates of the Second District City Council</span></span></span></span></div>\n\n<div><span style="font-size:14px"><span style="font-size:12px"><span style="font-size:14px"><span style="font-size:12px">Parking will be validated -&nbsp\;$2.00 for 2 hours</span></span></span></span></div>\n\n<div>&nbsp\;</div>\n\n<div><br />\n&nbsp\;</div>\n
LOCATION:Shoreline Village Off Boardwalk Stage
UID:e.1956.2541
SEQUENCE:3
DTSTAMP:20260423T214756Z
URL:https://business.lbchamber.com/events/details/shoreline-village-city-council-meet-greet-11-03-2015-2541
END:VEVENT

END:VCALENDAR
