BEGIN:VCALENDAR
VERSION:2.0
PRODID:-//ChamberMaster//Event Calendar 2.0//EN
METHOD:PUBLISH
X-PUBLISHED-TTL:P3D
REFRESH-INTERVAL:P3D
CALSCALE:GREGORIAN
BEGIN:VEVENT
DTSTART:20180421T023000Z
DTEND:20180422T200000Z
X-MICROSOFT-CDO-ALLDAYEVENT:FALSE
SUMMARY:SHEN YUN 2018 World Tour with Live Orchestra
DESCRIPTION:Consisting of about 20 pieces\, a Shen Yun performance takes you to a magic journey through 5\,000 years. Breathtaking animated backdrops\, exquisite hand-made costumes\, high flying leaps\, thunderous drums\, and mesmerizing live orchestra music will transport you to another world. A Feast for Your Eyes\, Ears and Soul. Gorgeous Stage Magic. "5\,000 YEARS... in one night!" - The New York Times "An extraordinary experience." - Cate Blanchett\, Academy Award-winning actress Be Inspired. Be Amazed. Experience the Divine Culture. More infomation and buy ticket here: http://www.shenyun.com/long-beach by Phone: 800-880-0188 888-974-3698 (9SHEN-YUN) By Email: tickets@laspectacular.com Box Office: Mon.-Fri.: 10AM-6PM Sat.: 12PM-4PM 562-436-3636
X-ALT-DESC;FMTTYPE=text/html:Consisting of about 20 pieces\, a Shen Yun performance takes you to a magic journey through 5\,000 years. Breathtaking animated backdrops\, exquisite hand-made costumes\, high flying leaps\, thunderous drums\, and mesmerizing live orchestra music will transport you to another world. A Feast for Your Eyes\, Ears and Soul. Gorgeous Stage Magic. &quot\;5\,000 YEARS... in one night!&quot\; - The New York Times &quot\;An extraordinary experience.&quot\; - Cate Blanchett\, Academy Award-winning actress Be Inspired. Be Amazed. Experience the Divine Culture. More infomation and buy ticket here: http://www.shenyun.com/long-beach by Phone: 800-880-0188 888-974-3698 (9SHEN-YUN) By Email: tickets@laspectacular.com Box Office: Mon.-Fri.: 10AM-6PM Sat.: 12PM-4PM 562-436-3636
LOCATION:Terrace Theater 300 E Ocean Blvd\, Long Beach\, CA 90802
UID:e.1956.4245
SEQUENCE:3
DTSTAMP:20260420T155338Z
URL:https://business.lbchamber.com/events/details/shen-yun-2018-world-tour-with-live-orchestra-4245
END:VEVENT

END:VCALENDAR
