BEGIN:VCALENDAR
VERSION:2.0
PRODID:-//ChamberMaster//Event Calendar 2.0//EN
METHOD:PUBLISH
X-PUBLISHED-TTL:P3D
REFRESH-INTERVAL:P3D
CALSCALE:GREGORIAN
BEGIN:VEVENT
DTSTART:20140925T160000Z
DTEND:20140926T040000Z
X-MICROSOFT-CDO-ALLDAYEVENT:FALSE
SUMMARY:Shaun Lumachi Memorial Golf Classic
DESCRIPTION:
X-ALT-DESC;FMTTYPE=text/html:
LOCATION:El Dorado Park Golf Course El Dorado Park Golf Course is located at 2400 N. Studebaker Road in Long Beach. Take the 405 FWY and exit Studebaker\, head north and the course will be on your right.
UID:e.1956.1258
SEQUENCE:3
DTSTAMP:20260422T075540Z
URL:https://business.lbchamber.com/events/details/shaun-lumachi-memorial-golf-classic-09-25-2014-1258
END:VEVENT

END:VCALENDAR
