BEGIN:VCALENDAR
VERSION:2.0
PRODID:-//ChamberMaster//Event Calendar 2.0//EN
METHOD:PUBLISH
X-PUBLISHED-TTL:P3D
REFRESH-INTERVAL:P3D
CALSCALE:GREGORIAN
BEGIN:VEVENT
DTSTART:20190323T013000Z
DTEND:20190323T033000Z
X-MICROSOFT-CDO-ALLDAYEVENT:FALSE
SUMMARY:Service Business Meetup | Long Beach
DESCRIPTION:Talk shop. Share advice. Build your rolodex. This event is for entrepreneurs in the residential and commercial services industry looking to network with other business owners in Long Beach and surrounding areas. Check out our Eventbrite page for more info!
X-ALT-DESC;FMTTYPE=text/html:<span style="color:#555555\;"><span style="font-family:arial\,sans-serif\;"><span style="font-size:10.0pt\;">Talk shop. Share advice. Build your rolodex. This event is for entrepreneurs in the residential and commercial services industry looking to network with other business owners in Long Beach and surrounding areas. Check out our Eventbrite page for more info!</span></span></span>
LOCATION:Ballast Point Brewing 110 N Marina Dr Long Beach\, CA 90803 United States
UID:e.1956.4451
SEQUENCE:3
DTSTAMP:20260420T012300Z
URL:https://business.lbchamber.com/events/details/service-business-meetup-long-beach-4451
END:VEVENT

END:VCALENDAR
