BEGIN:VCALENDAR
VERSION:2.0
PRODID:-//ChamberMaster//Event Calendar 2.0//EN
METHOD:PUBLISH
X-PUBLISHED-TTL:P3D
REFRESH-INTERVAL:P3D
CALSCALE:GREGORIAN
BEGIN:VEVENT
DTSTART:20141114T190000Z
DTEND:20141114T220000Z
X-MICROSOFT-CDO-ALLDAYEVENT:FALSE
SUMMARY:Senior Wellness & Resource Fair
DESCRIPTION:Please join us to learn about Programs and resources in our community that can help improve your health and quality of life. OVER 20 VENDORS plus Hourly Educational Seminars Learn About ? Volunteer Opportunities ? Medi-Cal/Cal Fresh ? Mental Health Programs ? Programs for the Disabled ? Your Legal Rights ? Subsidized Programs FREE ? Health Screenings ? Haircuts ? Chair Massage ? Refreshments ? Zumba Gold ? Giveaways ? Raffle Prizes and more...
X-ALT-DESC;FMTTYPE=text/html:Please join us to learn about Programs and resources in our community that can help improve your health and quality of life. OVER 20 VENDORS plus Hourly Educational Seminars Learn About ? Volunteer Opportunities ? Medi-Cal/Cal Fresh ? Mental Health Programs ? Programs for the Disabled ? Your Legal Rights ? Subsidized Programs FREE ? Health Screenings ? Haircuts ? Chair Massage ? Refreshments ? Zumba Gold ? Giveaways ? Raffle Prizes and more...
LOCATION:California Recreation Center 1550 Martin Luther King Jr. Ave. Long Beach\, 90813
UID:e.1956.2341
SEQUENCE:3
DTSTAMP:20260424T113556Z
URL:https://business.lbchamber.com/events/details/senior-wellness-resource-fair-11-14-2014-2341
END:VEVENT

END:VCALENDAR
